BEGIN:VCALENDAR
VERSION:2.0
PRODID:-//Lights Church オンライン教会 - ECPv6.14.2//NONSGML v1.0//EN
CALSCALE:GREGORIAN
METHOD:PUBLISH
X-ORIGINAL-URL:https://lights-church.com
X-WR-CALDESC:Lights Church オンライン教会 のイベント
REFRESH-INTERVAL;VALUE=DURATION:PT1H
X-Robots-Tag:noindex
X-PUBLISHED-TTL:PT1H
BEGIN:VTIMEZONE
TZID:Asia/Tokyo
BEGIN:STANDARD
TZOFFSETFROM:+0900
TZOFFSETTO:+0900
TZNAME:JST
DTSTART:20250101T000000
END:STANDARD
END:VTIMEZONE
BEGIN:VEVENT
DTSTART;TZID=Asia/Tokyo:20250808T160000
DTEND;TZID=Asia/Tokyo:20250808T170000
DTSTAMP:20260421T203643
CREATED:20250725T174228Z
LAST-MODIFIED:20250725T174228Z
UID:766-1754668800-1754672400@lights-church.com
SUMMARY:お祈りマラソン (for 北海道)
DESCRIPTION:
URL:https://lights-church.com/event/%e3%81%8a%e7%a5%88%e3%82%8a%e3%83%9e%e3%83%a9%e3%82%bd%e3%83%b3-for-%e5%8c%97%e6%b5%b7%e9%81%93/
END:VEVENT
END:VCALENDAR